BEGIN:VCALENDAR
PRODID:-//eluceo/ical//2.0/EN
VERSION:2.0
CALSCALE:GREGORIAN
BEGIN:VEVENT
UID:edf8a64edbc64c2d8be03569fb3401fd
DTSTAMP:20260422T125457Z
SUMMARY:„Aus Leidenschaft. Die Sammlung Maximilian und Agathe Weishaupt z
 u Gast“
DESCRIPTION:<p>Das Ehepaar Maximilian und Agathe Weishaupt begann Mitte der
  1980er-Jahre im engen persönlichen Kontakt mit Künstler*innen und Galer
 ist*innen mit dem Aufbau einer Sammlung. Diese umfasst heute zahlreiche ho
 chkarätige Werke der internationalen Gegenwartskunst und wurde bislang nu
 r selten öffentlich gezeigt.</p>\n<p>Die Präsentation im Kunstmuseum Ahl
 en wurde in enger Zusammenarbeit mit Agathe Weishaupt erarbeitet\, die die
  Sammlung nach dem Tod ihres Mannes (2018) weiter betreut. Thematische Rä
 ume\, etwa zu Erscheinungsformen des Lichts\, zur Kunst der 50er- und 60er
 -Jahre oder zum Prinzip der Faltungen\, wechseln mit Künstlerräumen von 
 Camill Leberer und David Nash. Neuentdeckungen wie die meditativ-strengen 
 Arbeiten koreanischer Künstler treffen auf Stars der Kunstszene wie Sean 
 Scully oder Sol LeWitt. Erstmals sind auch mehrere künstlerische Arbeiten
  von Maximilian Weishaupt zu sehen\, der sich\, geprägt von seinen Erfahr
 ungen als Architekt\, nicht nur intensiv mit Räumen\, geometrischen Körp
 ern und Oberflächen beschäftigt\, sondern auch das Element „Zeit“ in
  seine Werke eingeflochten hat.</p>\n<p>Die Ausstellung bildet in beeindru
 ckender Weise die Vielfalt der künstlerischen Ausdrucksmittel und die wes
 entlichen Fragestellungen der internationalen Gegenwartskunst ab.</p>\n<p>
 In Kooperation mit der Sammlung Maximilian und Agathe Weishaupt\, München
 \, dem Förderkreis Kunstmuseum Ahlen e.V. und der Theodor F. Leifeld-Stif
 tung.</p>\n<p><strong>Öffnungszeiten</strong><br>Mittwoch – Samstag: 15
  –18 Uhr<br>Sonntag und feiertags: 11 – 18 Uhr<br>Montag und Dienstag:
  geschlossen</p>
DTSTART;VALUE=DATE:20260422
ORGANIZER;CN=Kunstmuseum Ahlen:mailto:info@kunstmuseum-ahlen.de
END:VEVENT
BEGIN:VEVENT
UID:dc0082d01964939616a0d375c40c4388
DTSTAMP:20260422T125457Z
SUMMARY:„Aus Leidenschaft. Die Sammlung Maximilian und Agathe Weishaupt z
 u Gast“
DESCRIPTION:<p>Das Ehepaar Maximilian und Agathe Weishaupt begann Mitte der
  1980er-Jahre im engen persönlichen Kontakt mit Künstler*innen und Galer
 ist*innen mit dem Aufbau einer Sammlung. Diese umfasst heute zahlreiche ho
 chkarätige Werke der internationalen Gegenwartskunst und wurde bislang nu
 r selten öffentlich gezeigt.</p>\n<p>Die Präsentation im Kunstmuseum Ahl
 en wurde in enger Zusammenarbeit mit Agathe Weishaupt erarbeitet\, die die
  Sammlung nach dem Tod ihres Mannes (2018) weiter betreut. Thematische Rä
 ume\, etwa zu Erscheinungsformen des Lichts\, zur Kunst der 50er- und 60er
 -Jahre oder zum Prinzip der Faltungen\, wechseln mit Künstlerräumen von 
 Camill Leberer und David Nash. Neuentdeckungen wie die meditativ-strengen 
 Arbeiten koreanischer Künstler treffen auf Stars der Kunstszene wie Sean 
 Scully oder Sol LeWitt. Erstmals sind auch mehrere künstlerische Arbeiten
  von Maximilian Weishaupt zu sehen\, der sich\, geprägt von seinen Erfahr
 ungen als Architekt\, nicht nur intensiv mit Räumen\, geometrischen Körp
 ern und Oberflächen beschäftigt\, sondern auch das Element „Zeit“ in
  seine Werke eingeflochten hat.</p>\n<p>Die Ausstellung bildet in beeindru
 ckender Weise die Vielfalt der künstlerischen Ausdrucksmittel und die wes
 entlichen Fragestellungen der internationalen Gegenwartskunst ab.</p>\n<p>
 In Kooperation mit der Sammlung Maximilian und Agathe Weishaupt\, München
 \, dem Förderkreis Kunstmuseum Ahlen e.V. und der Theodor F. Leifeld-Stif
 tung.</p>\n<p><strong>Öffnungszeiten</strong><br>Mittwoch – Samstag: 15
  –18 Uhr<br>Sonntag und feiertags: 11 – 18 Uhr<br>Montag und Dienstag:
  geschlossen</p>
DTSTART;VALUE=DATE:20260423
ORGANIZER;CN=Kunstmuseum Ahlen:mailto:info@kunstmuseum-ahlen.de
END:VEVENT
BEGIN:VEVENT
UID:938b1934c80ad9f0e44a439a3eaa2b22
DTSTAMP:20260422T125457Z
SUMMARY:„Aus Leidenschaft. Die Sammlung Maximilian und Agathe Weishaupt z
 u Gast“
DESCRIPTION:<p>Das Ehepaar Maximilian und Agathe Weishaupt begann Mitte der
  1980er-Jahre im engen persönlichen Kontakt mit Künstler*innen und Galer
 ist*innen mit dem Aufbau einer Sammlung. Diese umfasst heute zahlreiche ho
 chkarätige Werke der internationalen Gegenwartskunst und wurde bislang nu
 r selten öffentlich gezeigt.</p>\n<p>Die Präsentation im Kunstmuseum Ahl
 en wurde in enger Zusammenarbeit mit Agathe Weishaupt erarbeitet\, die die
  Sammlung nach dem Tod ihres Mannes (2018) weiter betreut. Thematische Rä
 ume\, etwa zu Erscheinungsformen des Lichts\, zur Kunst der 50er- und 60er
 -Jahre oder zum Prinzip der Faltungen\, wechseln mit Künstlerräumen von 
 Camill Leberer und David Nash. Neuentdeckungen wie die meditativ-strengen 
 Arbeiten koreanischer Künstler treffen auf Stars der Kunstszene wie Sean 
 Scully oder Sol LeWitt. Erstmals sind auch mehrere künstlerische Arbeiten
  von Maximilian Weishaupt zu sehen\, der sich\, geprägt von seinen Erfahr
 ungen als Architekt\, nicht nur intensiv mit Räumen\, geometrischen Körp
 ern und Oberflächen beschäftigt\, sondern auch das Element „Zeit“ in
  seine Werke eingeflochten hat.</p>\n<p>Die Ausstellung bildet in beeindru
 ckender Weise die Vielfalt der künstlerischen Ausdrucksmittel und die wes
 entlichen Fragestellungen der internationalen Gegenwartskunst ab.</p>\n<p>
 In Kooperation mit der Sammlung Maximilian und Agathe Weishaupt\, München
 \, dem Förderkreis Kunstmuseum Ahlen e.V. und der Theodor F. Leifeld-Stif
 tung.</p>\n<p><strong>Öffnungszeiten</strong><br>Mittwoch – Samstag: 15
  –18 Uhr<br>Sonntag und feiertags: 11 – 18 Uhr<br>Montag und Dienstag:
  geschlossen</p>
DTSTART;VALUE=DATE:20260424
ORGANIZER;CN=Kunstmuseum Ahlen:mailto:info@kunstmuseum-ahlen.de
END:VEVENT
BEGIN:VEVENT
UID:8f56ba2195625a9511cebe3efd6518cf
DTSTAMP:20260422T125457Z
SUMMARY:„Aus Leidenschaft. Die Sammlung Maximilian und Agathe Weishaupt z
 u Gast“
DESCRIPTION:<p>Das Ehepaar Maximilian und Agathe Weishaupt begann Mitte der
  1980er-Jahre im engen persönlichen Kontakt mit Künstler*innen und Galer
 ist*innen mit dem Aufbau einer Sammlung. Diese umfasst heute zahlreiche ho
 chkarätige Werke der internationalen Gegenwartskunst und wurde bislang nu
 r selten öffentlich gezeigt.</p>\n<p>Die Präsentation im Kunstmuseum Ahl
 en wurde in enger Zusammenarbeit mit Agathe Weishaupt erarbeitet\, die die
  Sammlung nach dem Tod ihres Mannes (2018) weiter betreut. Thematische Rä
 ume\, etwa zu Erscheinungsformen des Lichts\, zur Kunst der 50er- und 60er
 -Jahre oder zum Prinzip der Faltungen\, wechseln mit Künstlerräumen von 
 Camill Leberer und David Nash. Neuentdeckungen wie die meditativ-strengen 
 Arbeiten koreanischer Künstler treffen auf Stars der Kunstszene wie Sean 
 Scully oder Sol LeWitt. Erstmals sind auch mehrere künstlerische Arbeiten
  von Maximilian Weishaupt zu sehen\, der sich\, geprägt von seinen Erfahr
 ungen als Architekt\, nicht nur intensiv mit Räumen\, geometrischen Körp
 ern und Oberflächen beschäftigt\, sondern auch das Element „Zeit“ in
  seine Werke eingeflochten hat.</p>\n<p>Die Ausstellung bildet in beeindru
 ckender Weise die Vielfalt der künstlerischen Ausdrucksmittel und die wes
 entlichen Fragestellungen der internationalen Gegenwartskunst ab.</p>\n<p>
 In Kooperation mit der Sammlung Maximilian und Agathe Weishaupt\, München
 \, dem Förderkreis Kunstmuseum Ahlen e.V. und der Theodor F. Leifeld-Stif
 tung.</p>\n<p><strong>Öffnungszeiten</strong><br>Mittwoch – Samstag: 15
  –18 Uhr<br>Sonntag und feiertags: 11 – 18 Uhr<br>Montag und Dienstag:
  geschlossen</p>
DTSTART;VALUE=DATE:20260425
ORGANIZER;CN=Kunstmuseum Ahlen:mailto:info@kunstmuseum-ahlen.de
END:VEVENT
BEGIN:VEVENT
UID:f8226453be1af282ac5d96b7213b7d5d
DTSTAMP:20260422T125457Z
SUMMARY:„Aus Leidenschaft. Die Sammlung Maximilian und Agathe Weishaupt z
 u Gast“
DESCRIPTION:<p>Das Ehepaar Maximilian und Agathe Weishaupt begann Mitte der
  1980er-Jahre im engen persönlichen Kontakt mit Künstler*innen und Galer
 ist*innen mit dem Aufbau einer Sammlung. Diese umfasst heute zahlreiche ho
 chkarätige Werke der internationalen Gegenwartskunst und wurde bislang nu
 r selten öffentlich gezeigt.</p>\n<p>Die Präsentation im Kunstmuseum Ahl
 en wurde in enger Zusammenarbeit mit Agathe Weishaupt erarbeitet\, die die
  Sammlung nach dem Tod ihres Mannes (2018) weiter betreut. Thematische Rä
 ume\, etwa zu Erscheinungsformen des Lichts\, zur Kunst der 50er- und 60er
 -Jahre oder zum Prinzip der Faltungen\, wechseln mit Künstlerräumen von 
 Camill Leberer und David Nash. Neuentdeckungen wie die meditativ-strengen 
 Arbeiten koreanischer Künstler treffen auf Stars der Kunstszene wie Sean 
 Scully oder Sol LeWitt. Erstmals sind auch mehrere künstlerische Arbeiten
  von Maximilian Weishaupt zu sehen\, der sich\, geprägt von seinen Erfahr
 ungen als Architekt\, nicht nur intensiv mit Räumen\, geometrischen Körp
 ern und Oberflächen beschäftigt\, sondern auch das Element „Zeit“ in
  seine Werke eingeflochten hat.</p>\n<p>Die Ausstellung bildet in beeindru
 ckender Weise die Vielfalt der künstlerischen Ausdrucksmittel und die wes
 entlichen Fragestellungen der internationalen Gegenwartskunst ab.</p>\n<p>
 In Kooperation mit der Sammlung Maximilian und Agathe Weishaupt\, München
 \, dem Förderkreis Kunstmuseum Ahlen e.V. und der Theodor F. Leifeld-Stif
 tung.</p>\n<p><strong>Öffnungszeiten</strong><br>Mittwoch – Samstag: 15
  –18 Uhr<br>Sonntag und feiertags: 11 – 18 Uhr<br>Montag und Dienstag:
  geschlossen</p>
DTSTART;VALUE=DATE:20260426
ORGANIZER;CN=Kunstmuseum Ahlen:mailto:info@kunstmuseum-ahlen.de
END:VEVENT
BEGIN:VTIMEZONE
TZID:Europe/Berlin
BEGIN:STANDARD
DTSTART:20260101T000000
TZNAME:CET
TZOFFSETTO:+0100
TZOFFSETFROM:+0100
END:STANDARD
BEGIN:DAYLIGHT
DTSTART:20260329T030000
TZNAME:CEST
TZOFFSETTO:+0200
TZOFFSETFROM:+0100
END:DAYLIGHT
BEGIN:STANDARD
DTSTART:20261025T020000
TZNAME:CET
TZOFFSETTO:+0100
TZOFFSETFROM:+0200
END:STANDARD
END:VTIMEZONE
END:VCALENDAR
