BEGIN:VCALENDAR
PRODID:-//eluceo/ical//2.0/EN
VERSION:2.0
CALSCALE:GREGORIAN
BEGIN:VEVENT
UID:5b789153a0046f427e143de872969c8c
DTSTAMP:20260420T011025Z
SUMMARY:„Die kleine Eule findet einen Freund“
DESCRIPTION:<p>Am Dienstag\, 21. April\, um 16:30 Uhr\, liest Carola Deutri
 ch die Geschichte „Die kleine Eule findet einen Freund“ von Susanne We
 ber und Tanja Jacobs vor.</p>\n<p>Die kleine Eule langweilt sich\, bis sie
  eines Tages die kleine Haselmaus trifft. Die beiden entdecken schnell\, d
 ass sie viel Spaß zusammen haben können\, vor allem beim Verstecken spie
 len. Ihre neu gefundene Freundschaft beweist\, dass Gegensätze sich anzie
 hen können und wahre Freunde immer einen Weg finden\, gemeinsam zu lachen
  und zu spielen.</p>\n<p>Die Stadtbücherei freut sich auf viele kleine un
 d große Zuhörer*innen. Für den Besuch gibt es einen Stempel in das Mamm
 utheft. Die Vorlesestunden finden in Kooperation der Stadtbücherei Ahlen\
 , der Leistelle Älter werden in Ahlen und der Familienbildungsstätte Ahl
 en statt.</p>
DTSTART;VALUE=DATE:20260421
ORGANIZER;CN=Stadtbücherei Ahlen:mailto:stadtbuecherei@stadt.ahlen.de
END:VEVENT
BEGIN:VTIMEZONE
TZID:Europe/Berlin
BEGIN:STANDARD
DTSTART:20260101T000000
TZNAME:CET
TZOFFSETTO:+0100
TZOFFSETFROM:+0100
END:STANDARD
BEGIN:DAYLIGHT
DTSTART:20260329T030000
TZNAME:CEST
TZOFFSETTO:+0200
TZOFFSETFROM:+0100
END:DAYLIGHT
BEGIN:STANDARD
DTSTART:20261025T020000
TZNAME:CET
TZOFFSETTO:+0100
TZOFFSETFROM:+0200
END:STANDARD
END:VTIMEZONE
END:VCALENDAR
