BEGIN:VCALENDAR
PRODID:-//eluceo/ical//2.0/EN
VERSION:2.0
CALSCALE:GREGORIAN
BEGIN:VEVENT
UID:a0677ec3bc20dd90a1d444ea1a50757c
DTSTAMP:20260423T103054Z
SUMMARY:„Max und der neue Freund“
DESCRIPTION:<p>Am Donnerstag\, 23. April\, um 16:30 Uhr\, liest Marita Junk
 mann die Geschichte „Max und der neue Freund“ von Sabine Kraushaar und
  Christian Tielmann vor.</p>\n<p>Max ist mit Mama im Park und ihm ist schr
 ecklich langweilig. Mama möchte lesen. Max möchte Fußball spielen. Aber
  alleine macht das keinen Spaß. Doch dann entdeckt Max einen anderen Jung
 en auf der Wiese. Ob der Lust auf ein Spiel hat? Schließlich traut sich M
 ax - und fragt. Und plötzlich wird aus einem langweiligen Tag ein richtig
  toller! Die beiden haben viel Spaß zusammen. Vielleicht können sie soga
 r Freunde werden …?</p>\n<p>Die Stadtbücherei freut sich auf viele klei
 ne und große Zuhörer*innen. Für den Besuch gibt es einen Stempel in das
  Mammutheft. Die Vorlesestunden finden in Kooperation der Stadtbücherei A
 hlen\, der Leistelle Älter werden in Ahlen und der Familienbildungsstätt
 e Ahlen statt.</p>
DTSTART;VALUE=DATE:20260423
ORGANIZER;CN=Stadtbücherei Ahlen:mailto:stadtbuecherei@stadt.ahlen.de
END:VEVENT
BEGIN:VTIMEZONE
TZID:Europe/Berlin
BEGIN:STANDARD
DTSTART:20260101T000000
TZNAME:CET
TZOFFSETTO:+0100
TZOFFSETFROM:+0100
END:STANDARD
BEGIN:DAYLIGHT
DTSTART:20260329T030000
TZNAME:CEST
TZOFFSETTO:+0200
TZOFFSETFROM:+0100
END:DAYLIGHT
BEGIN:STANDARD
DTSTART:20261025T020000
TZNAME:CET
TZOFFSETTO:+0100
TZOFFSETFROM:+0200
END:STANDARD
END:VTIMEZONE
END:VCALENDAR
