BEGIN:VCALENDAR
PRODID:-//eluceo/ical//2.0/EN
VERSION:2.0
CALSCALE:GREGORIAN
BEGIN:VEVENT
UID:1d1b17dbca42f1a7fa383a8f75f0d265
DTSTAMP:20260424T123426Z
SUMMARY:Rock am Schacht
DESCRIPTION:<p><strong>Rock am Schacht: Ein Abend voller Seele\, Schweiß u
 nd purer Energie&nbsp\;</strong></p>\n<p>Wenn die historische Lohnhalle Ze
 che Westfalen in Ahlen zum Klingen gebracht wird\, ist es wieder Zeit für
  „Rock am Schacht“.</p>\n<p>Am Freitag\, 24. April\, erwartet das Publ
 ikum eine außergewöhnliche musikalische Reise: Von den tiefschürfenden 
 Melodien eines Jonas Künne über den erdigen Rock von Wildland bis hin zu
 r frischen Power der Newcomer Midnight. Ein Abend\, der beweist\, dass han
 dgemachte Musik die Kraft hat\, alles zu vereinen.</p>\n<p>Es gibt Momente
 \, in denen Musik mehr ist als bloße Unterhaltung. Wenn der Abend um 19:3
 0 Uhr beginnt\, wird es zunächst intim: Jonas Künne betritt die Bühne. 
 Der Songwriter hat das seltene Talent\, schwere Schicksalsschläge in hoff
 nungsvolle Kunst zu verwandeln. Seine Songs sind „Wegweiser zurück ins 
 Licht“. Mit seiner sanften Stimme und seinem raffinierten Gitarrenspiel 
 schafft er eine Atmosphäre\, die zum Innehalten einlädt – ein gemeinsa
 mes Durchatmen\, bevor der Abend an Fahrt aufnimmt.</p>\n<p><strong>Von de
 r Stille zum Sturm&nbsp\;</strong><br>Nach dieser emotionalen Tiefe übern
 immt die Band Wildland das Ruder und setzt ein donnerndes Statement für d
 en echten Rock’n’Roll. Hier kommt nichts „aus der Dose“: Die fünf
  Vollblutmusiker zelebrieren handgemachte Riffs und leidenschaftliche Eige
 nkompositionen. „Wildland is alive“ ist bei ihnen kein bloßer Name\, 
 sondern ein Versprechen. Sie schlagen die Brücke zwischen klassischem Roc
 k-Spirit und moderner Energie – der perfekte Soundtrack\, um das Leben l
 autstark zu feiern.</p>\n<p><strong>Frischer Wind aus Hemer</strong><br>De
 n krönenden Abschluss bildet die nächste Generation: Midnight. Die junge
  Formation aus Hemer hat seit ihrer Gründung im April 2024 bereits region
 ale Festivals im Sturm erobert. Mit ihrem Motto „Wir haben Bock auf Musi
 k!“ bringen sie eine Spielfreude auf die Bühne\, die sofort ansteckt. M
 idnight interpretieren Rock- und Pop-Covers mit einer unverbrauchten Energ
 ie\, die zeigt\, dass die Zukunft der Live Musik in den besten Händen lie
 gt.</p>\n<p><strong>Kultur für alle: Eintritt frei</strong><br>Das Stadtt
 eilbüro und das Team von „Rock am Schacht“ laden alle Musikfans ein\,
  diese Vielfalt hautnah zu erleben. Ob Gänsehaut-Momente oder ausgelassen
 es Mitfeiern – dieser Abend bietet für jeden Geschmack das Richtige. Wi
 e gewohnt ist der Eintritt kostenfrei\, und für das leibliche Wohl mit k
 ühlen Getränken ist gesorgt. Kommt vorbei\, lasst euch von der Leidensch
 aft anstecken und erlebt am 24. April einen Abend\, der zeigt\, wie lebend
 ig unsere lokale Musikszene ist.</p>\n<p>Die Lohnhalle wartet auf Euch!</p
 >\n<p>Rock am Schacht und das Team des Stadtteilbüros</p>
DTSTART;VALUE=DATE:20260424
END:VEVENT
BEGIN:VTIMEZONE
TZID:Europe/Berlin
BEGIN:STANDARD
DTSTART:20260101T000000
TZNAME:CET
TZOFFSETTO:+0100
TZOFFSETFROM:+0100
END:STANDARD
BEGIN:DAYLIGHT
DTSTART:20260329T030000
TZNAME:CEST
TZOFFSETTO:+0200
TZOFFSETFROM:+0100
END:DAYLIGHT
BEGIN:STANDARD
DTSTART:20261025T020000
TZNAME:CET
TZOFFSETTO:+0100
TZOFFSETFROM:+0200
END:STANDARD
END:VTIMEZONE
END:VCALENDAR
