BEGIN:VCALENDAR
PRODID:-//eluceo/ical//2.0/EN
VERSION:2.0
CALSCALE:GREGORIAN
BEGIN:VEVENT
UID:17a4b81197a9839a53774a78e15c0406
DTSTAMP:20260423T102440Z
SUMMARY:„Eagle Flight“
DESCRIPTION:<p>Jeden letzten Freitag im Monat können junge Menschen die vi
 rtuelle Realität in der Jugendbibliothek erleben. Von 14:30 bis 18:00 Uhr
  lässt sich dort das PlayStation VR-Headset mit Move-Controllern ausprobi
 eren. Am 24. April demonstriert die Stadtbücherei das beeindruckende Spie
 l „Eagle Flight“\, eine Flugsimulation\, bei der die Spieler als Adler
  das postapokalyptische Paris erkunden können.</p>\n<p>Dank der intuitive
 n Steuerung durch Kopfbewegungen eignet sich das Spiel perfekt für VR-Ein
 steiger – egal ob Kinder\, Jugendliche oder Erwachsene. Die Veranstaltun
 g begleitet fachkundig Büchereileiter Grigorij Getahun\, inklusive Einfü
 hrung und Unterstützung bei der Nutzung der Technik.</p>\n<p>Die Stadtbü
 cherei unterstreicht mit der VR-Reihe ihr Ziel\, innovative Technologien u
 nd kulturelle Angebote für alle Generationen zugänglich zu machen. Die T
 eilnahme an der Veranstaltung ist kostenlos\, eine Anmeldung ist nicht erf
 orderlich.&nbsp\;</p>
DTSTART;TZID=Europe/Berlin:20260424T143000
DTEND;TZID=Europe/Berlin:20260424T180000
ORGANIZER;CN=Stadtbücherei Ahlen:mailto:stadtbuecherei@stadt.ahlen.de
END:VEVENT
BEGIN:VTIMEZONE
TZID:Europe/Berlin
BEGIN:STANDARD
DTSTART:20260101T000000
TZNAME:CET
TZOFFSETTO:+0100
TZOFFSETFROM:+0100
END:STANDARD
BEGIN:DAYLIGHT
DTSTART:20260329T030000
TZNAME:CEST
TZOFFSETTO:+0200
TZOFFSETFROM:+0100
END:DAYLIGHT
BEGIN:STANDARD
DTSTART:20261025T020000
TZNAME:CET
TZOFFSETTO:+0100
TZOFFSETFROM:+0200
END:STANDARD
END:VTIMEZONE
END:VCALENDAR
