BEGIN:VCALENDAR
PRODID:-//eluceo/ical//2.0/EN
VERSION:2.0
CALSCALE:GREGORIAN
BEGIN:VEVENT
UID:af72db34d1d7fe37a6fa7a228524dfda
DTSTAMP:20260423T102407Z
SUMMARY:Mehr Schwung im Arbeitsalltag - Impulse für Motivation und gutes M
 iteinander
DESCRIPTION:<p>Wie lässt sich Motivation im Arbeitsalltag fördern – und
  welche Rolle spielen Weiterbildung\, Kommunikation und ein gutes Betriebs
 klima dabei? Diese Fragen stehen im Mittelpunkt der Veranstaltung am Donne
 rstag\, 23. April von 18 bis 19.30 Uhr an der VHS Ahlen\, bei der zwei pra
 xisnahe Schulungsmodule vorgestellt werden\, die im Rahmen des europäisch
 en Projekts „NICE – New Initiatives for Competence and Employee Wellbe
 ing“ entwickelt wurden.</p>\n<p>Die Module greifen Themen wie Motivation
  von Mitarbeitenden\, gesunde Arbeitskultur und Kompetenzentwicklung auf u
 nd verbinden wissenschaftliche Erkenntnisse mit konkreten Praxisbeispielen
  aus kleinen und mittleren Unternehmen.</p>\n<p>Das Projekt NICE verbindet
  moderne Kompetenzentwicklung mit einer gesunden und wertschätzenden Arbe
 itskultur. Das Projekt entwickelt praxisnahe Trainingsmodule zu Motivation
 \, Kommunikation und Wohlbefinden am Arbeitsplatz – speziell zugeschnitt
 en auf die Bedürfnisse kleiner und mittlerer Unternehmen und deren Mitarb
 eiter*innen. Im Zentrum steht die Frage\, wie Weiterbildung\, gutes Teamkl
 ima und Anerkennung zu höherer Motivation und mehr Leistungsfähigkeit be
 itragen können. Die Inhalte basieren auf aktueller Forschung sowie realen
  Unternehmensbeispielen und werden kontinuierlich in Workshops und Pilotph
 asen erprobt. Beschäftigte wie Führungskräfte erhalten konkrete Werkzeu
 ge\, die sie unmittelbar in ihrem Arbeitsalltag anwenden können\, etwa zu
 r Stärkung eines positiven Miteinanders oder zur Verbesserung von Arbeits
 prozessen. NICE schafft Impulse für langfristig gesunde\, zukunftsfähige
  und motivierende Arbeitsplätze – und fördert Kompetenzen\, die für m
 oderne Arbeits- und Lernwelten unverzichtbar sind.</p>\n<p>Nach einer kurz
 en Einführung erhalten die Teilnehmenden Gelegenheit\, die vorgestellten 
 Ansätze zu diskutieren\, eigene Erfahrungen einzubringen und zu reflektie
 ren\, welche Impulse sich daraus für die lokale Bildungs- und Arbeitswelt
  ableiten lassen.</p>
DTSTART;TZID=Europe/Berlin:20260423T180000
DTEND;TZID=Europe/Berlin:20260423T193000
END:VEVENT
BEGIN:VTIMEZONE
TZID:Europe/Berlin
BEGIN:STANDARD
DTSTART:20260101T000000
TZNAME:CET
TZOFFSETTO:+0100
TZOFFSETFROM:+0100
END:STANDARD
BEGIN:DAYLIGHT
DTSTART:20260329T030000
TZNAME:CEST
TZOFFSETTO:+0200
TZOFFSETFROM:+0100
END:DAYLIGHT
BEGIN:STANDARD
DTSTART:20261025T020000
TZNAME:CET
TZOFFSETTO:+0100
TZOFFSETFROM:+0200
END:STANDARD
END:VTIMEZONE
END:VCALENDAR
