BEGIN:VCALENDAR
PRODID:-//eluceo/ical//2.0/EN
VERSION:2.0
CALSCALE:GREGORIAN
BEGIN:VEVENT
UID:22b98ad506efde4708382bfd49634022
DTSTAMP:20260425T125906Z
SUMMARY:Spielnachmittag im Jugendzentrum Ost
DESCRIPTION:<p>Kommt vorbei zum Spielnachmittag ins Jugendzentrum Ost in Ah
 len!</p>\n<p>Der Eintritt ist frei!</p>
DTSTART;VALUE=DATE:20260425
ORGANIZER;CN=Stadt Ahlen- Jugendamt/ Jugendförderung- Jugendzentrum Ost:ma
 ilto:info@jz-ost.de
END:VEVENT
BEGIN:VTIMEZONE
TZID:Europe/Berlin
BEGIN:STANDARD
DTSTART:20260101T000000
TZNAME:CET
TZOFFSETTO:+0100
TZOFFSETFROM:+0100
END:STANDARD
BEGIN:DAYLIGHT
DTSTART:20260329T030000
TZNAME:CEST
TZOFFSETTO:+0200
TZOFFSETFROM:+0100
END:DAYLIGHT
BEGIN:STANDARD
DTSTART:20261025T020000
TZNAME:CET
TZOFFSETTO:+0100
TZOFFSETFROM:+0200
END:STANDARD
END:VTIMEZONE
END:VCALENDAR
