BEGIN:VCALENDAR
PRODID:-//eluceo/ical//2.0/EN
VERSION:2.0
CALSCALE:GREGORIAN
BEGIN:VEVENT
UID:f02c8b269b140ed87b5a4d59fad2eb5b
DTSTAMP:20260424T170355Z
SUMMARY:„Rund um das Kind“
DESCRIPTION:<p>Am Samstag\, 9. März\, veranstaltet die Elternschule des St
 . Franziskus-Hospitals Ahlen in der Zeit von 14 bis 16 Uhr in der Lohnhall
 e der Zeche Westfalen 1 den Flohmarkt „Rund ums Kind" von Eltern für El
 tern.&nbsp\;</p>\n<p>An den Verkaufsständen kann hier Baby- und Kinderkle
 idung\, Spielzeug\, Bücher und vieles mehr erworben werden. Eltern könne
 n sich zusätzlich über die Angebote der Elternschule informieren.</p>\n<
 p>Standanmeldungen werden über <a href="mailto:elternschule@sfh-ahlen.de"
 >elternschule@sfh-ahlen.de</a> angenommen. Bei Fragen oder näheren Inform
 ationen kontaktieren Sie das Büro der Elternschule\, Telefon 0 23 82 85 8
 3 21.</p>
DTSTART;TZID=Europe/Berlin:20240309T140000
DTEND;TZID=Europe/Berlin:20240309T160000
END:VEVENT
BEGIN:VTIMEZONE
TZID:Europe/Berlin
BEGIN:STANDARD
DTSTART:20240101T000000
TZNAME:CET
TZOFFSETTO:+0100
TZOFFSETFROM:+0100
END:STANDARD
BEGIN:DAYLIGHT
DTSTART:20240331T030000
TZNAME:CEST
TZOFFSETTO:+0200
TZOFFSETFROM:+0100
END:DAYLIGHT
BEGIN:STANDARD
DTSTART:20241027T020000
TZNAME:CET
TZOFFSETTO:+0100
TZOFFSETFROM:+0200
END:STANDARD
END:VTIMEZONE
END:VCALENDAR
