BEGIN:VCALENDAR
PRODID:-//eluceo/ical//2.0/EN
VERSION:2.0
CALSCALE:GREGORIAN
BEGIN:VEVENT
UID:4c40036a1e3d44ec8a18aad8a50bfba0
DTSTAMP:20260424T172726Z
SUMMARY:Ladies Trödel
DESCRIPTION:<p>Am Samstag\, 28. Juni\, von 10 bis 13 Uhr veranstalten die D
 olberger Landfrauen mit dem „Ladies Trödel“ einen ersten Trödel nur 
 für Frauen.</p>\n<p>Auf dem Schulhof der Lambertischule darf in gemütlic
 her Atmosphäre alles ab Samengröße angeboten und gekauft werden. Außer
 dem natürlich Accessoires\, wie Hüte\, Taschen\, Tücher und Schmuck.</p
 >\n<p>Die Landfrauen bieten zudem Sekt\, Kaffee und Waffeln an.</p>
DTSTART;TZID=Europe/Berlin:20250628T100000
DTEND;TZID=Europe/Berlin:20250628T130000
END:VEVENT
BEGIN:VTIMEZONE
TZID:Europe/Berlin
BEGIN:STANDARD
DTSTART:20250101T000000
TZNAME:CET
TZOFFSETTO:+0100
TZOFFSETFROM:+0100
END:STANDARD
BEGIN:DAYLIGHT
DTSTART:20250330T030000
TZNAME:CEST
TZOFFSETTO:+0200
TZOFFSETFROM:+0100
END:DAYLIGHT
BEGIN:STANDARD
DTSTART:20251026T020000
TZNAME:CET
TZOFFSETTO:+0100
TZOFFSETFROM:+0200
END:STANDARD
END:VTIMEZONE
END:VCALENDAR
