BEGIN:VCALENDAR
PRODID:-//eluceo/ical//2.0/EN
VERSION:2.0
CALSCALE:GREGORIAN
BEGIN:VEVENT
UID:3a1b32ece26c6a125e29165a7b3de0fc
DTSTAMP:20260421T102552Z
SUMMARY:Leben im Dschungel mit Dieter Schonlau
DESCRIPTION:<p>National Geographic Fotograf Dieter Schonlau und seine Frau 
 Sandra Hanke sind im Regenwald praktisch zuhause. Wer als Kind das Dschung
 elbuch gelesen oder die gleichnamige Verfilmung – &nbsp\;in welcher Vers
 ion auch immer – gesehen hat\, den hat die Faszination des Dschungels un
 d seiner Bewohner sofort mitgerissen. Die Regenwälder unserer Erde entfac
 hen in der Vorstellung vieler Menschen eine Magie und einen Zauber\, dem m
 an sich nur schwer entziehen kann. Die unbeschreibliche Vielfalt der Natur
  zeigt sich dort von ihrer schönsten Seite und in einer Fülle\, wie es s
 ie nur in wenigen Regionen unserer Erde zu sehen gibt.</p>\n<p>Seit über 
 30 Jahren bereist der Fotograf und Autor Dieter Schonlau gemeinsam mit sei
 ner Frau Sandra die &nbsp\;Regenwälder unserer Erde und hat sich damit ni
 cht nur einen Traum erfüllt\, sondern mittlerweile in Summe über dreizeh
 n Jahre unter den Dächern der Dschungelkronen gelebt. In seinen Reportage
 n und Multivisionsvorträgen berichtet er von Begegnungen mit Menschen im 
 Dschungel\, seltenen Tieren oder von Naturschauspielen. Er nimmt die Zusch
 auer mit auf eine abenteuerliche Entdeckungstour\, deren Faszination man s
 ofort verfällt. Die Komposition aus spektakulären Fotografien und Filmen
 \, spannenden Erlebnissen und einer beeindruckenden Geräuschkulisse mache
 n die Vorträge von Dieter Schonlau zu einem unvergesslichen Erlebnis.&nbs
 p\;</p>
DTSTART;VALUE=DATE:20260317
END:VEVENT
BEGIN:VTIMEZONE
TZID:Europe/Berlin
BEGIN:STANDARD
DTSTART:20260101T000000
TZNAME:CET
TZOFFSETTO:+0100
TZOFFSETFROM:+0100
END:STANDARD
BEGIN:DAYLIGHT
DTSTART:20260329T030000
TZNAME:CEST
TZOFFSETTO:+0200
TZOFFSETFROM:+0100
END:DAYLIGHT
BEGIN:STANDARD
DTSTART:20261025T020000
TZNAME:CET
TZOFFSETTO:+0100
TZOFFSETFROM:+0200
END:STANDARD
END:VTIMEZONE
END:VCALENDAR
