BEGIN:VCALENDAR
PRODID:-//eluceo/ical//2.0/EN
VERSION:2.0
CALSCALE:GREGORIAN
BEGIN:VEVENT
UID:67852c0d4af63696596c6f19198b828d
DTSTAMP:20260422T145104Z
SUMMARY:Mädchen spielen mit Puppen und Jungen mit Autos - Wirklich?
DESCRIPTION:<p>Früher gab es Spielzeug für Kinder. Heute ist es für Mäd
 chen oder Jungen. Rosa oder blau. Traktor oder Puppe. Und so taucht die Di
 skussion über genderneutrales Spielzeug auf. Genderneutralität\, Genderm
 arketing\, Geschlechtsstereotype\, was ist das überhaupt? Muss man da auc
 h noch beim Spielzeugkauf drüber nachdenken?</p>\n<p>Dieses Online-Semina
 r der Familienbildungsstätte am Mittwoch\, 22. April\, ab 19.30 Uhr für 
 Kindertagespflegepersonen\, Erzieher und weitere Interessierte soll Hilfe 
 und Orientierung bieten.</p>\n<p>Es werden verschiedene Ansätze und Hinte
 rgründe kennengelernt um somit etwas Sicherheit sowie eine individuelle A
 usrichtung auf dem eigenen Weg in dieser hochaktuellen Diskussion finden z
 u können.</p>\n<p>Die Leitung hat Erzieherin Anja Burg.</p>\n<p>Anmeldung
 en unter Telefon 0 23 82 91 230 oder auf <a href="https://www.fbs-ahlen.de
 " target="_blank" rel="noreferrer">www.fbs-ahlen.de</a>.</p>
DTSTART;VALUE=DATE:20260422
END:VEVENT
BEGIN:VTIMEZONE
TZID:Europe/Berlin
BEGIN:STANDARD
DTSTART:20260101T000000
TZNAME:CET
TZOFFSETTO:+0100
TZOFFSETFROM:+0100
END:STANDARD
BEGIN:DAYLIGHT
DTSTART:20260329T030000
TZNAME:CEST
TZOFFSETTO:+0200
TZOFFSETFROM:+0100
END:DAYLIGHT
BEGIN:STANDARD
DTSTART:20261025T020000
TZNAME:CET
TZOFFSETTO:+0100
TZOFFSETFROM:+0200
END:STANDARD
END:VTIMEZONE
END:VCALENDAR
