BEGIN:VCALENDAR
PRODID:-//eluceo/ical//2.0/EN
VERSION:2.0
CALSCALE:GREGORIAN
BEGIN:VEVENT
UID:b150b040b904b02ee57c7b774d489b3d
DTSTAMP:20260420T092049Z
SUMMARY:Reiseimpressionen
DESCRIPTION:<p><strong>Ausstellung im Ahlener Kulturkeller mit Werken von:<
 /strong><br>Paul Heinz Briest<br>Martin Hatscher<br>Franz Jedani<br>Alfred
  Kitzig<br>Jürgen Küper<br>Christiane u. Helmut Oelze<br>Manfred Pütter
 <br>Hermann Schweizer<br>Ruda Schweizer-Dönges</p>\n<p><strong>Vernissage
 :</strong><br>Sonntag\, 15. Juni\, 11 Uhr<br><strong>Finissage:</strong><b
 r>Sonntag\, 6. Juli\, 11 Uhr</p>\n<p><strong>Öffnungszeiten:</strong><br>
 Samstag 16 - 18 Uhr<br>Sonntag 11 - 14 Uhr<br>und nach Vereinbarung</p>
DTSTART;TZID=Europe/Berlin:20250615T110000
DTEND;TZID=Europe/Berlin:20250615T140000
END:VEVENT
BEGIN:VEVENT
UID:fdc27ccf343fd12e2f82b0d87af53336
DTSTAMP:20260420T092049Z
SUMMARY:Reiseimpressionen
DESCRIPTION:<p><strong>Ausstellung im Ahlener Kulturkeller mit Werken von:<
 /strong><br>Paul Heinz Briest<br>Martin Hatscher<br>Franz Jedani<br>Alfred
  Kitzig<br>Jürgen Küper<br>Christiane u. Helmut Oelze<br>Manfred Pütter
 <br>Hermann Schweizer<br>Ruda Schweizer-Dönges</p>\n<p><strong>Vernissage
 :</strong><br>Sonntag\, 15. Juni\, 11 Uhr<br><strong>Finissage:</strong><b
 r>Sonntag\, 6. Juli\, 11 Uhr</p>\n<p><strong>Öffnungszeiten:</strong><br>
 Samstag 16 - 18 Uhr<br>Sonntag 11 - 14 Uhr<br>und nach Vereinbarung</p>
DTSTART;TZID=Europe/Berlin:20250622T110000
DTEND;TZID=Europe/Berlin:20250622T140000
END:VEVENT
BEGIN:VEVENT
UID:2a01e9e903f162390b781920d22e6528
DTSTAMP:20260420T092049Z
SUMMARY:Reiseimpressionen
DESCRIPTION:<p><strong>Ausstellung im Ahlener Kulturkeller mit Werken von:<
 /strong><br>Paul Heinz Briest<br>Martin Hatscher<br>Franz Jedani<br>Alfred
  Kitzig<br>Jürgen Küper<br>Christiane u. Helmut Oelze<br>Manfred Pütter
 <br>Hermann Schweizer<br>Ruda Schweizer-Dönges</p>\n<p><strong>Vernissage
 :</strong><br>Sonntag\, 15. Juni\, 11 Uhr<br><strong>Finissage:</strong><b
 r>Sonntag\, 6. Juli\, 11 Uhr</p>\n<p><strong>Öffnungszeiten:</strong><br>
 Samstag 16 - 18 Uhr<br>Sonntag 11 - 14 Uhr<br>und nach Vereinbarung</p>
DTSTART;TZID=Europe/Berlin:20250629T110000
DTEND;TZID=Europe/Berlin:20250629T140000
END:VEVENT
BEGIN:VEVENT
UID:c706468caab07411c7874a57e9440ddf
DTSTAMP:20260420T092049Z
SUMMARY:Reiseimpressionen
DESCRIPTION:<p><strong>Ausstellung im Ahlener Kulturkeller mit Werken von:<
 /strong><br>Paul Heinz Briest<br>Martin Hatscher<br>Franz Jedani<br>Alfred
  Kitzig<br>Jürgen Küper<br>Christiane u. Helmut Oelze<br>Manfred Pütter
 <br>Hermann Schweizer<br>Ruda Schweizer-Dönges</p>\n<p><strong>Vernissage
 :</strong><br>Sonntag\, 15. Juni\, 11 Uhr<br><strong>Finissage:</strong><b
 r>Sonntag\, 6. Juli\, 11 Uhr</p>\n<p><strong>Öffnungszeiten:</strong><br>
 Samstag 16 - 18 Uhr<br>Sonntag 11 - 14 Uhr<br>und nach Vereinbarung</p>
DTSTART;TZID=Europe/Berlin:20250706T110000
DTEND;TZID=Europe/Berlin:20250706T140000
END:VEVENT
BEGIN:VTIMEZONE
TZID:Europe/Berlin
BEGIN:STANDARD
DTSTART:20250101T000000
TZNAME:CET
TZOFFSETTO:+0100
TZOFFSETFROM:+0100
END:STANDARD
BEGIN:DAYLIGHT
DTSTART:20250330T030000
TZNAME:CEST
TZOFFSETTO:+0200
TZOFFSETFROM:+0100
END:DAYLIGHT
BEGIN:STANDARD
DTSTART:20251026T020000
TZNAME:CET
TZOFFSETTO:+0100
TZOFFSETFROM:+0200
END:STANDARD
END:VTIMEZONE
END:VCALENDAR
