BEGIN:VCALENDAR
PRODID:-//eluceo/ical//2.0/EN
VERSION:2.0
CALSCALE:GREGORIAN
BEGIN:VEVENT
UID:04c34b5ba2b0260a9bd6e2b0356b2d9a
DTSTAMP:20260425T145309Z
SUMMARY:Auf den Spuren der Juden in Ahlen
DESCRIPTION:<p>Am Samstag\, 25. April\, findet von 11 bis 14 Uhr eine öffe
 ntliche Führung zur Geschichte der Juden in Ahlen statt.</p>\n<p>Die nati
 onalsozialistische Diktatur war kein Berliner\, Nürnberger oder Münchner
  Ereignis. Sie war vor den Häusern unserer Eltern und Großeltern auch in
  Ahlen allgegenwärtige Realität.</p>\n<p>Der Historiker und Autor des Bu
 ches „Der Weg nach Auschwitz begann auch in Ahlen"\, Dr. Hans Gummersbac
 h\, führt durch die Innenstadt und berichtet an historischen Orten über 
 das frühere Leben jüdischer Menschen in Ahlen. Bei dem Rundgang berichte
 t er von seiner Spurensuche in Ahlen\, die in den 1980er Jahren begann. Er
  hat Zeitzeugen befragt\, Archive durchsucht und viele Gespräche mit den 
 wenigen Juden geführt\, die der Vernichtung entgangen waren. Viele dieser
  oft erschütternden Spuren individueller Lebensschicksale sind in seinem 
 Buch veröffentlicht. Während des Stadtrundgangs werden die Wohnhäuser u
 nd Geschäfte der jüdischen Ahlener Bürger\, die jüdische Schule und di
 e Synagoge\, der Siegmund-Spiegel-Platz und andere Orte besucht\, bei dene
 n man immer wieder auch auf „Stolpersteine“ stößt.</p>\n<p>Die Stadt
 führung findet im Rahmen eines Projektes zur Digitalisierung der Stadtfü
 hrung statt. Treffpunkt ist um 11 Uhr an der VHS im Alten Rathaus\, Markt 
 15 in Ahlen.</p>\n<p>Die Teilnahme ist gebührenfrei. Eine Anmeldung ist e
 rforderlich unter <a href="https://www.vhs-ahlen.de" target="_blank" rel="
 noreferrer">www.vhs-ahlen.de</a> oder telefonisch in der VHS-Geschäftsste
 lle 0 23 82 59 436.&nbsp\;<br>&nbsp\;</p>
DTSTART;TZID=Europe/Berlin:20260425T110000
DTEND;TZID=Europe/Berlin:20260425T140000
END:VEVENT
BEGIN:VTIMEZONE
TZID:Europe/Berlin
BEGIN:STANDARD
DTSTART:20260101T000000
TZNAME:CET
TZOFFSETTO:+0100
TZOFFSETFROM:+0100
END:STANDARD
BEGIN:DAYLIGHT
DTSTART:20260329T030000
TZNAME:CEST
TZOFFSETTO:+0200
TZOFFSETFROM:+0100
END:DAYLIGHT
BEGIN:STANDARD
DTSTART:20261025T020000
TZNAME:CET
TZOFFSETTO:+0100
TZOFFSETFROM:+0200
END:STANDARD
END:VTIMEZONE
END:VCALENDAR
