BEGIN:VCALENDAR
PRODID:-//eluceo/ical//2.0/EN
VERSION:2.0
CALSCALE:GREGORIAN
BEGIN:VEVENT
UID:185fd6ef247ea58c9870c2ac3bca2a3b
DTSTAMP:20260424T170924Z
SUMMARY:Angelschnuppertag für Kinder
DESCRIPTION:<p>Wie im letzten Jahr wird auch in diesem Jahr wieder ein Ange
 lschnuppertag für Kinder stattfinden</p>\n<p>An diesem Tag findet auch ei
 n Trödelmarkt für die Angler statt. Wir sind noch auf der Suche nach Spe
 nden für diesen Trödel. Wer also noch Angelzubehör zu Hause hat\, das n
 icht mehr benötigt wird und bereit ist\, diese für den Trödelmarkt zu s
 penden\, kann sich gerne bei Sabine Lehmann oder Marlon Jung (<a href="mai
 lto:Marlonjung@outlook.de">Marlonjung@outlook.de</a>) wenden. Auch für di
 ejenigen\, die uns an diesem Tag unterstützen möchten\, sind Sabine und 
 Marlon die richtigen Ansprechpartner.</p>\n<p>Weitere Infos folgen.</p>
DTSTART;VALUE=DATE:20240831
END:VEVENT
BEGIN:VTIMEZONE
TZID:Europe/Berlin
BEGIN:STANDARD
DTSTART:20240101T000000
TZNAME:CET
TZOFFSETTO:+0100
TZOFFSETFROM:+0100
END:STANDARD
BEGIN:DAYLIGHT
DTSTART:20240331T030000
TZNAME:CEST
TZOFFSETTO:+0200
TZOFFSETFROM:+0100
END:DAYLIGHT
BEGIN:STANDARD
DTSTART:20241027T020000
TZNAME:CET
TZOFFSETTO:+0100
TZOFFSETFROM:+0200
END:STANDARD
END:VTIMEZONE
END:VCALENDAR
